BEGIN:VCALENDAR
VERSION:2.0
PRODID:-//Tukios.com/
BEGIN:VEVENT
UID:918c2ea6-99d8-4380-a122-368bfb3242f5@www.funerariaalvarez.com
DTSTAMP:20260420T204946Z
DTSTART:20260423T210000Z
DTEND:20260424T010000Z
SUMMARY:Visitation
DESCRIPTION:
URL:https://www.funerariaalvarez.com/obituaries/ada-ortiz
LOCATION: 66 Passaic Ave  Passaic NJ 07055
GEO:40.8583924;-74.1278998
END:VEVENT
END:VCALENDAR