BEGIN:VCALENDAR
VERSION:2.0
PRODID:-//Tukios.com/
BEGIN:VEVENT
UID:017fdb95-7322-4376-8519-ebeb02eeb737@www.funerariaalvarez.com
DTSTAMP:20260420T205059Z
DTSTART:20260424T130000Z
DTEND:20260424T140000Z
SUMMARY:Second Visitation
DESCRIPTION:
URL:https://www.funerariaalvarez.com/obituaries/ada-ortiz
LOCATION: 66 Passaic Ave  Passaic NJ 07055
GEO:40.8583924;-74.1278998
END:VEVENT
END:VCALENDAR