BEGIN:VCALENDAR
VERSION:2.0
PRODID:-//Tukios.com/
BEGIN:VEVENT
UID:f754c6e9-8c68-4e1c-aa79-c0462592355b@www.funerariaalvarez.com
DTSTAMP:20260420T204711Z
DTSTART:20260424T143000Z
DTEND:20260424T153000Z
SUMMARY:Burial
DESCRIPTION:
URL:https://www.funerariaalvarez.com/obituaries/ada-ortiz
LOCATION: 255 Main Avenue   Clifton NJ 07014
GEO:40.8352738;-74.1379819
END:VEVENT
END:VCALENDAR