BEGIN:VCALENDAR
VERSION:2.0
PRODID:-//Tukios.com/
BEGIN:VEVENT
UID:c180c4b3-ecc2-48d6-8195-8d1bc831ceee@www.funerariaalvarez.com
DTSTAMP:20260424T155450Z
DTSTART:20260427T223000Z
DTEND:20260427T233000Z
SUMMARY:Prayer Service
DESCRIPTION:
URL:https://www.funerariaalvarez.com/obituaries/donald-timmons
LOCATION: 267 Park Ave  Paterson NJ 07513
GEO:40.9150661;-74.1545948
END:VEVENT
END:VCALENDAR