BEGIN:VCALENDAR
VERSION:2.0
PRODID:-//Tukios.com/
BEGIN:VEVENT
UID:cf93f9fb-7c7c-409e-9079-34b320dba600@www.funerariaalvarez.com
DTSTAMP:20260424T143134Z
DTSTART:20260426T190000Z
DTEND:20260426T230000Z
SUMMARY:Visitation
DESCRIPTION:
URL:https://www.funerariaalvarez.com/obituaries/filiberto-alameda-tepale
LOCATION: 66 Passaic Ave  Passaic NJ 07055
GEO:40.8583924;-74.1278998
END:VEVENT
END:VCALENDAR