BEGIN:VCALENDAR
VERSION:2.0
PRODID:-//Tukios.com/
BEGIN:VEVENT
UID:b8b953ed-9871-43ec-b167-06c92d4514f5@www.funerariaalvarez.com
DTSTAMP:20260424T143435Z
DTSTART:20260427T130000Z
DTEND:20260427T140000Z
SUMMARY:Second Visitation
DESCRIPTION:
URL:https://www.funerariaalvarez.com/obituaries/filiberto-alameda-tepale
LOCATION: 66 Passaic Ave  Passaic NJ 07055
GEO:40.8583924;-74.1278998
END:VEVENT
END:VCALENDAR