BEGIN:VCALENDAR
VERSION:2.0
PRODID:-//Tukios.com/
BEGIN:VEVENT
UID:a047e13e-cc4a-4827-b726-e803cbf064a6@www.funerariaalvarez.com
DTSTAMP:20260424T143226Z
DTSTART:20260427T143000Z
DTEND:20260427T153000Z
SUMMARY:Burial
DESCRIPTION:
URL:https://www.funerariaalvarez.com/obituaries/filiberto-alameda-tepale
LOCATION: 24 Westminster Place  Saddle Brook NJ 07663
GEO:40.8952222;-74.0881623
END:VEVENT
END:VCALENDAR