BEGIN:VCALENDAR
VERSION:2.0
PRODID:-//Tukios.com/
BEGIN:VEVENT
UID:5529f264-da41-46fe-9c57-f278c2296437@www.funerariaalvarez.com
DTSTAMP:20260423T205027Z
DTSTART:20260426T170000Z
DTEND:20260426T210000Z
SUMMARY:Visitation
DESCRIPTION:
URL:https://www.funerariaalvarez.com/obituaries/jaime-botello
LOCATION: 267 Park Ave  Paterson NJ 07513
GEO:40.9150661;-74.1545948
END:VEVENT
END:VCALENDAR