BEGIN:VCALENDAR
VERSION:2.0
PRODID:-//Tukios.com/
BEGIN:VEVENT
UID:97256ba8-7dea-45e9-8b23-f8676689bae3@www.funerariaalvarez.com
DTSTAMP:20260421T085744Z
DTSTART:20260425T170000Z
DTEND:20260425T180000Z
SUMMARY:Prayer Service
DESCRIPTION:
URL:https://www.funerariaalvarez.com/obituaries/jordana-irvine
LOCATION: 223 Hamilton Ave  Paterson NJ 07501
GEO:40.9203661;-74.1623819
END:VEVENT
END:VCALENDAR