BEGIN:VCALENDAR
VERSION:2.0
PRODID:-//Tukios.com/
BEGIN:VEVENT
UID:064c31c8-949f-4387-a916-84f015137629@www.funerariaalvarez.com
DTSTAMP:20260424T161343Z
DTSTART:20260502T133000Z
DTEND:20260502T143000Z
SUMMARY:Visitation
DESCRIPTION:
URL:https://www.funerariaalvarez.com/obituaries/lawrence-n-scott
LOCATION: 381 Haledon Avenue  Haledon NJ 07508
GEO:40.9369576;-74.181556
END:VEVENT
END:VCALENDAR