BEGIN:VCALENDAR
VERSION:2.0
PRODID:-//Tukios.com/
BEGIN:VEVENT
UID:e650b1b0-1cb6-4cc3-800d-8b90c3e9fd1a@www.funerariaalvarez.com
DTSTAMP:20260424T161343Z
DTSTART:20260502T143000Z
DTEND:20260502T153000Z
SUMMARY:Prayer Service
DESCRIPTION:
URL:https://www.funerariaalvarez.com/obituaries/lawrence-n-scott
LOCATION: 381 Haledon Avenue  Haledon NJ 07508
GEO:40.9369576;-74.181556
END:VEVENT
END:VCALENDAR