BEGIN:VCALENDAR
VERSION:2.0
PRODID:-//Tukios.com/
BEGIN:VEVENT
UID:7ed77450-9b98-4a1d-a090-590635e84eed@www.funerariaalvarez.com
DTSTAMP:20260424T161157Z
DTSTART:20260504T150000Z
DTEND:20260504T160000Z
SUMMARY:Burial
DESCRIPTION:
URL:https://www.funerariaalvarez.com/obituaries/lawrence-n-scott
LOCATION: 350 Province Line Road  Wrightstown NJ 08562
GEO:40.0935412;-74.5641096
END:VEVENT
END:VCALENDAR