BEGIN:VCALENDAR
VERSION:2.0
PRODID:-//Tukios.com/
BEGIN:VEVENT
UID:46b3ba00-23d1-4be5-8ff7-fc28d448489e@www.funerariaalvarez.com
DTSTAMP:20260419T130402Z
DTSTART:20260425T160000Z
DTEND:20260425T170000Z
SUMMARY:Prayer Service
DESCRIPTION:
URL:https://www.funerariaalvarez.com/obituaries/mary-james
LOCATION: 267 Park Ave  Paterson NJ 07513
GEO:40.9150661;-74.1545948
END:VEVENT
END:VCALENDAR