BEGIN:VCALENDAR
VERSION:2.0
PRODID:-//Tukios.com/
BEGIN:VEVENT
UID:a0d2cbe1-cc03-4d8c-8712-5367af692617@www.funerariaalvarez.com
DTSTAMP:20260420T164004Z
DTSTART:20260421T210000Z
DTEND:20260422T010000Z
SUMMARY:Visitation
DESCRIPTION:
URL:https://www.funerariaalvarez.com/obituaries/wojciech-szyszko
LOCATION: 66 Passaic Ave  Passaic NJ 07055
GEO:40.8583924;-74.1278998
END:VEVENT
END:VCALENDAR