BEGIN:VCALENDAR
VERSION:2.0
PRODID:-//Tukios.com/
BEGIN:VEVENT
UID:4cb843e2-ef76-45df-a30b-5676700a7e6a@www.funerariaalvarez.com
DTSTAMP:20260420T164426Z
DTSTART:20260422T140000Z
DTEND:20260422T150000Z
SUMMARY:Mass
DESCRIPTION:
URL:https://www.funerariaalvarez.com/obituaries/wojciech-szyszko
LOCATION: 7 Parker Avenue  Passaic NJ 07055
GEO:40.8677038;-74.1201813
END:VEVENT
END:VCALENDAR